BEGIN:VCALENDAR
PRODID:http://wibix.de/infusions/pro_download_panel/download.php?did=27
VERSION:2.0
METHOD:PUBLISH
BEGIN:VEVENT
DTSTART:20130101T000000Z
UID:165@http://sg-ozl.de/
DTSTAMP:20121218T124029Z
DESCRIPTION:Ort: Sportplatz in Ostheim\n\nBeginn: 14:30 Uhr
SUMMARY:Neujahrsempfang
CLASS:PUBLIC
END:VEVENT
END:VCALENDAR
