BEGIN:VCALENDAR
PRODID:http://wibix.de/infusions/pro_download_panel/download.php?did=27
VERSION:2.0
METHOD:PUBLISH
BEGIN:VEVENT
DTSTART:20130127T000000Z
UID:171@http://sg-ozl.de/
DTSTAMP:20130122T120248Z
DESCRIPTION:Training in Ostheim um 11 Uhr.\n\nBitte Fussball- und Laufschuhe mitbringen.\n\nUm zahlreiches und pünktliches Erscheinen wird gebeten.
SUMMARY:Trainingsauftakt
CLASS:PUBLIC
END:VEVENT
END:VCALENDAR
