BEGIN:VCALENDAR
PRODID:http://wibix.de/infusions/pro_download_panel/download.php?did=27
VERSION:2.0
METHOD:PUBLISH
BEGIN:VEVENT
DTSTART:20130203T000000Z
UID:174@http://sg-ozl.de/
DTSTAMP:20130202T132225Z
DESCRIPTION:Training in Ostheim um 10:45 Uhr in Ostheim.\n\nBitte Lauf- und Fussballschuhe mitbringen
SUMMARY:Training
CLASS:PUBLIC
END:VEVENT
END:VCALENDAR
