BEGIN:VCALENDAR
PRODID:http://wibix.de/infusions/pro_download_panel/download.php?did=27
VERSION:2.0
METHOD:PUBLISH
BEGIN:VEVENT
DTSTART:20130215T000000Z
UID:177@http://sg-ozl.de/
DTSTAMP:20130213T115841Z
DESCRIPTION:Training auf dem Sportplatz in Ostheim um 19 Uhr !\n\nBitte Fussball- und Laufschuhe mitbringen
SUMMARY:Training
CLASS:PUBLIC
END:VEVENT
END:VCALENDAR
