BEGIN:VCALENDAR
PRODID:http://wibix.de/infusions/pro_download_panel/download.php?did=27
VERSION:2.0
METHOD:PUBLISH
BEGIN:VEVENT
DTSTART:20130220T000000Z
UID:178@http://sg-ozl.de/
DTSTAMP:20130220T155017Z
DESCRIPTION:Treffen um 19 Uhr
SUMMARY:Hallentraining in Liebenau
CLASS:PUBLIC
END:VEVENT
END:VCALENDAR
