BEGIN:VCALENDAR
PRODID:http://wibix.de/infusions/pro_download_panel/download.php?did=27
VERSION:2.0
METHOD:PUBLISH
BEGIN:VEVENT
DTSTART:20130222T000000Z
UID:179@http://sg-ozl.de/
DTSTAMP:20130220T155049Z
DESCRIPTION:In Ostheim um 18:45 Uhr. Bitte Lauf- und Fussballschuhe mitbringen
SUMMARY:Training
CLASS:PUBLIC
END:VEVENT
END:VCALENDAR
