BEGIN:VCALENDAR
PRODID:http://wibix.de/infusions/pro_download_panel/download.php?did=27
VERSION:2.0
METHOD:PUBLISH
BEGIN:VEVENT
DTSTART:20130504T230000Z
UID:200@http://sg-ozl.de/
DTSTAMP:20130429T154346Z
DESCRIPTION:Ort: Gieselwerder\n\nAnstoß: 15:00 Uhr
SUMMARY:TSV Gottstreu - SG O/Z/L
CLASS:PUBLIC
END:VEVENT
END:VCALENDAR
