BEGIN:VCALENDAR
PRODID:http://wibix.de/infusions/pro_download_panel/download.php?did=27
VERSION:2.0
METHOD:PUBLISH
BEGIN:VEVENT
DTSTART:20130502T230000Z
UID:202@http://sg-ozl.de/
DTSTAMP:20130502T204042Z
DESCRIPTION:auf dem Sportplatz in Ostheim um 19 Uhr !
SUMMARY:Training
CLASS:PUBLIC
END:VEVENT
END:VCALENDAR
