BEGIN:VCALENDAR
PRODID:http://wibix.de/infusions/pro_download_panel/download.php?did=27
VERSION:2.0
METHOD:PUBLISH
BEGIN:VEVENT
DTSTART:20130520T230000Z
UID:206@http://sg-ozl.de/
DTSTAMP:20130513T134910Z
DESCRIPTION:Ort: Oberelsungen\n\nAnstoß: 18:30 Uhr
SUMMARY:FC Oberelsungen II - SG O/Z/L
CLASS:PUBLIC
END:VEVENT
END:VCALENDAR
