BEGIN:VCALENDAR
PRODID:http://wibix.de/infusions/pro_download_panel/download.php?did=27
VERSION:2.0
METHOD:PUBLISH
BEGIN:VEVENT
DTSTART:20130525T230000Z
UID:209@http://sg-ozl.de/
DTSTAMP:20130513T135103Z
DESCRIPTION:în Ostheim auf dem Festplatz am DGH
SUMMARY:Stadtfeuerwehrfest
CLASS:PUBLIC
END:VEVENT
END:VCALENDAR
