BEGIN:VCALENDAR
PRODID:http://wibix.de/infusions/pro_download_panel/download.php?did=27
VERSION:2.0
METHOD:PUBLISH
BEGIN:VEVENT
DTSTART:20130614T230000Z
UID:210@http://sg-ozl.de/
DTSTAMP:20130603T121442Z
DESCRIPTION:Trainingsspiel zwischen der 1. Mannschaft und den Altherren !\n\nAnschließend Grillen
SUMMARY:Saisonabschluss 2013
CLASS:PUBLIC
END:VEVENT
END:VCALENDAR
