BEGIN:VCALENDAR
PRODID:http://wibix.de/infusions/pro_download_panel/download.php?did=27
VERSION:2.0
METHOD:PUBLISH
BEGIN:VEVENT
DTSTART:20130621T230000Z
UID:211@http://sg-ozl.de/
DTSTAMP:20130617T150242Z
DESCRIPTION:Treffen: 10:00 Uhr in Ostheim
SUMMARY:Saisonabschlussfahrt nach Köln
CLASS:PUBLIC
END:VEVENT
END:VCALENDAR
