BEGIN:VCALENDAR
PRODID:http://wibix.de/infusions/pro_download_panel/download.php?did=27
VERSION:2.0
METHOD:PUBLISH
BEGIN:VEVENT
DTSTART:20130710T230000Z
UID:212@http://sg-ozl.de/
DTSTAMP:20130627T134658Z
DESCRIPTION:Pokalspiel gegen Wettesingen/Breuna\n\nOrt: Ostheim\n\nAnstoß: 18:30 Uhr
SUMMARY:SG O/Z/L - SG Wettes./Breuna
CLASS:PUBLIC
END:VEVENT
END:VCALENDAR
