BEGIN:VCALENDAR
PRODID:http://wibix.de/infusions/pro_download_panel/download.php?did=27
VERSION:2.0
METHOD:PUBLISH
BEGIN:VEVENT
DTSTART:20130928T230000Z
UID:217@http://sg-ozl.de/
DTSTAMP:20130929T090403Z
DESCRIPTION:gegen SG Schachten/Burguffeln II; Anstoß: 15:00 Uhr; Treffen 13:45 Uhr; Sportplatz Ostheim
SUMMARY:Heimspiel
LOCATION:Sportplatz Ostheim
CLASS:PUBLIC
END:VEVENT
END:VCALENDAR
