BEGIN:VCALENDAR
PRODID:http://wibix.de/infusions/pro_download_panel/download.php?did=27
VERSION:2.0
METHOD:PUBLISH
BEGIN:VEVENT
DTSTART:20131024T230000Z
UID:221@http://sg-ozl.de/
DTSTAMP:20131025T083736Z
DESCRIPTION:Sportplatz Ostheim um 19 Uhr, Treffen 18:45 Uhr
SUMMARY:Training
CLASS:PUBLIC
END:VEVENT
END:VCALENDAR
