BEGIN:VCALENDAR
PRODID:http://wibix.de/infusions/pro_download_panel/download.php?did=27
VERSION:2.0
METHOD:PUBLISH
BEGIN:VEVENT
DTSTART:20151017T230000Z
UID:391@http://sg-ozl.de/
DTSTAMP:20151015T055044Z
DESCRIPTION:Ort: Reinhardshagen\n\nAnstoß: 11:00 Uhr
SUMMARY:SG Reinhardshagen III - SG O/Z/L II
CLASS:PUBLIC
END:VEVENT
END:VCALENDAR
